BEGIN:VCALENDAR
VERSION:2.0
PRODID:-//SVP Oberbipp //NONSGML Events //EN
CALSCALE:GREGORIAN
X-WR-CALNAME:SVP Oberbipp
BEGIN:VEVENT
CREATED:20260422T190018Z
UID:1141
DTEND:20260910T000000
DTSTART:20260910T000000
DTSTAMP:20260423T135829Z
LOCATION:
DESCRIPTION:Weitere Infos folgen.
SUMMARY:Parteihöck
ORGANIZER:
URL;VALUE=URI:https://www.svp-oberbipp.ch/termine/besuch-beim-regierungsstatthalteramt/
TRANSP:OPAQUE
END:VEVENT
END:VCALENDAR
