BEGIN:VCALENDAR
VERSION:2.0
PRODID:-//SVP Oberbipp //NONSGML Events //EN
CALSCALE:GREGORIAN
X-WR-CALNAME:SVP Oberbipp
BEGIN:VEVENT
CREATED:20260422T190018Z
UID:1144
DTEND:20260604T210000
DTSTART:20260604T200000
DTSTAMP:20260423T135905Z
LOCATION:Buchistöckli Oberbipp
DESCRIPTION:
SUMMARY:Parteiversammlung
ORGANIZER:
URL;VALUE=URI:https://www.svp-oberbipp.ch/termine/parteiversammlung-5/
TRANSP:OPAQUE
END:VEVENT
END:VCALENDAR
